BEGIN:VCALENDAR
VERSION:2.0
PRODID:-//Timmy&#039;s Gang - ECPv6.13.2.1//NONSGML v1.0//EN
CALSCALE:GREGORIAN
METHOD:PUBLISH
X-WR-CALNAME:Timmy&#039;s Gang
X-ORIGINAL-URL:https://www.timmysgang.com
X-WR-CALDESC:Events for Timmy&#039;s Gang
REFRESH-INTERVAL;VALUE=DURATION:PT1H
X-Robots-Tag:noindex
X-PUBLISHED-TTL:PT1H
BEGIN:VTIMEZONE
TZID:America/Chicago
BEGIN:DAYLIGHT
TZOFFSETFROM:-0600
TZOFFSETTO:-0500
TZNAME:CDT
DTSTART:20060402T080000
END:DAYLIGHT
BEGIN:STANDARD
TZOFFSETFROM:-0500
TZOFFSETTO:-0600
TZNAME:CST
DTSTART:20061029T070000
END:STANDARD
BEGIN:DAYLIGHT
TZOFFSETFROM:-0600
TZOFFSETTO:-0500
TZNAME:CDT
DTSTART:20070311T080000
END:DAYLIGHT
BEGIN:STANDARD
TZOFFSETFROM:-0500
TZOFFSETTO:-0600
TZNAME:CST
DTSTART:20071104T070000
END:STANDARD
BEGIN:DAYLIGHT
TZOFFSETFROM:-0600
TZOFFSETTO:-0500
TZNAME:CDT
DTSTART:20080309T080000
END:DAYLIGHT
BEGIN:STANDARD
TZOFFSETFROM:-0500
TZOFFSETTO:-0600
TZNAME:CST
DTSTART:20081102T070000
END:STANDARD
BEGIN:DAYLIGHT
TZOFFSETFROM:-0600
TZOFFSETTO:-0500
TZNAME:CDT
DTSTART:20090308T080000
END:DAYLIGHT
BEGIN:STANDARD
TZOFFSETFROM:-0500
TZOFFSETTO:-0600
TZNAME:CST
DTSTART:20091101T070000
END:STANDARD
BEGIN:DAYLIGHT
TZOFFSETFROM:-0600
TZOFFSETTO:-0500
TZNAME:CDT
DTSTART:20100314T080000
END:DAYLIGHT
BEGIN:STANDARD
TZOFFSETFROM:-0500
TZOFFSETTO:-0600
TZNAME:CST
DTSTART:20101107T070000
END:STANDARD
BEGIN:DAYLIGHT
TZOFFSETFROM:-0600
TZOFFSETTO:-0500
TZNAME:CDT
DTSTART:20110313T080000
END:DAYLIGHT
BEGIN:STANDARD
TZOFFSETFROM:-0500
TZOFFSETTO:-0600
TZNAME:CST
DTSTART:20111106T070000
END:STANDARD
BEGIN:DAYLIGHT
TZOFFSETFROM:-0600
TZOFFSETTO:-0500
TZNAME:CDT
DTSTART:20120311T080000
END:DAYLIGHT
BEGIN:STANDARD
TZOFFSETFROM:-0500
TZOFFSETTO:-0600
TZNAME:CST
DTSTART:20121104T070000
END:STANDARD
BEGIN:DAYLIGHT
TZOFFSETFROM:-0600
TZOFFSETTO:-0500
TZNAME:CDT
DTSTART:20130310T080000
END:DAYLIGHT
BEGIN:STANDARD
TZOFFSETFROM:-0500
TZOFFSETTO:-0600
TZNAME:CST
DTSTART:20131103T070000
END:STANDARD
BEGIN:DAYLIGHT
TZOFFSETFROM:-0600
TZOFFSETTO:-0500
TZNAME:CDT
DTSTART:20140309T080000
END:DAYLIGHT
BEGIN:STANDARD
TZOFFSETFROM:-0500
TZOFFSETTO:-0600
TZNAME:CST
DTSTART:20141102T070000
END:STANDARD
BEGIN:DAYLIGHT
TZOFFSETFROM:-0600
TZOFFSETTO:-0500
TZNAME:CDT
DTSTART:20150308T080000
END:DAYLIGHT
BEGIN:STANDARD
TZOFFSETFROM:-0500
TZOFFSETTO:-0600
TZNAME:CST
DTSTART:20151101T070000
END:STANDARD
BEGIN:DAYLIGHT
TZOFFSETFROM:-0600
TZOFFSETTO:-0500
TZNAME:CDT
DTSTART:20160313T080000
END:DAYLIGHT
BEGIN:STANDARD
TZOFFSETFROM:-0500
TZOFFSETTO:-0600
TZNAME:CST
DTSTART:20161106T070000
END:STANDARD
END:VTIMEZONE
BEGIN:VEVENT
DTSTART;VALUE=DATE:20160414
DTEND;VALUE=DATE:20160418
DTSTAMP:20260423T153623
CREATED:20160210T181633Z
LAST-MODIFIED:20160427T184026Z
UID:242-1460592000-1460937599@www.timmysgang.com
SUMMARY:RTJ - Birmingham
DESCRIPTION:Photo taken ~April 15\, 2016. Left to right: Bill M.\, Wally R.\, Roger D.\, Tom S. Steve S.\, Ken M.\n\nFrom Original Post (Feb 10\, 2016) \nThanks\, Wally\, for researching the Robert Trent Jones info.  From reading your comments\, it’s my understanding the cost to play the Birmingham courses (Ross Bridge and Oxmoor Valley) would range ~$410 – $630 (golf and stay at Hyatt)\, with the range depending on how many share a room. \nWe had a total of six gang members attend this trip!\n\n\n\nName\nOxmoor – Ridge\nFriday 4/15/16\nOxmoor – Valley\nSaturday 4/16/16\nRoss Bridge\nSunday 4/17/16\n\n\n\n\nWally\nGroup 1\nGroup 2\n Group 2\n\n\nKen\nGroup 1\nGroup 1\n Group 1\n\n\nSteve\nGroup 1\nGroup 1\n Group 2\n\n\nRoger\nGroup 2\nGroup 2\n Group 1\n\n\nBill\nGroup 2\nGroup 2\n Group 1\n\n\nTex\nGroup 2\nGroup 1\n Group 2
URL:https://www.timmysgang.com/event/rtj-birmingham/
LOCATION:Birmingham (Ross Bridge – 18 holes) & (Oxmoor Valley – 36 holes)\, Birmingham\, United States
CATEGORIES:history
END:VEVENT
BEGIN:VEVENT
DTSTART;VALUE=DATE:20160128
DTEND;VALUE=DATE:20160202
DTSTAMP:20260423T153623
CREATED:20160209T151647Z
LAST-MODIFIED:20160302T144009Z
UID:232-1453939200-1454371199@www.timmysgang.com
SUMMARY:Vegas 2016
DESCRIPTION:Front Row: Dave Shaw\, Pat Fleming\, Jon Fleming\, Steve Spinner. Row 2: Mike Hooper\, Tom Shaw\, Scott Beary\, Roger Dobberstein. Row 3: Justin Clark\, Mark Fleming\, Stanley Becchetti.\nVegas 2016 \nWe had a total of eighteen gang members attend this trip! \n\n\n\nName\nPlayed Bali Hai\nThursday\nPlayed Badlands\nFriday\n\n\n\n\nFleming\, Pat\nNo\nGroup 2\n\n\nFleming\, Mark\nNo\nNo\n\n\nFleming\, Brian\nNo\nNo\n\n\nFleming\, Jonathan\nNo\nGroup 3\n\n\nTwenter\, Brent\nNo\nNo\n\n\nSpinner\, Steve\nYES\nGroup 3\n\n\nBantle\, John\nYES\nGroup 2\n\n\nShaw\, Tom\nNo\nNo\n\n\nClark\, Justin\nNo\nNo\n\n\nDobberstein\, Rodger\nYes\nGroup 2\n\n\nShaw\, Dave\nNo\nGroup 2\n\n\nBecchetti\, Stanley\nNo\nGroup 3\n\n\nRezac\, Josh\nNo\nGroup 1\n\n\nBeary\, Scott\nNo\nGroup 1\n\n\nAlt\, Rob\nNo\nGroup 3\n\n\nSrsen\, Aaron\nNo\nGroup 1\n\n\nEudy\, Ryan\nNo\nGroup 1\n\n\nHooper\, Mike\nNo\nNo
URL:https://www.timmysgang.com/event/vegas-2016/
LOCATION:IN
CATEGORIES:history,vegas
END:VEVENT
BEGIN:VEVENT
DTSTART;TZID=America/Chicago:20060210T080000
DTEND;TZID=America/Chicago:20060210T170000
DTSTAMP:20260423T153623
CREATED:20210316T175105Z
LAST-MODIFIED:20210316T175654Z
UID:1514-1139558400-1139590800@www.timmysgang.com
SUMMARY:Vegas 2006
DESCRIPTION:Thank you Dave Shaw for sending in these old photos.  The photos are date stamped February 10\, 2006.  It’s Vegas\, for sure\, but I’m not sure what course it is. \n\n\n\nTim – Vegas Golf 2006\n\n\n\nJon\, Dave S.\, Tim\, Ray\, Pat\, Mark\, Roger\, Wally\n\n\n\nTim and Wally
URL:https://www.timmysgang.com/event/vegas-2006/
LOCATION:IN
ATTACH;FMTTYPE=image/jpeg:https://www.timmysgang.com/wp-content/uploads/2021/03/enhance.jpg
END:VEVENT
END:VCALENDAR